BEGIN:VCALENDAR
VERSION:2.0
PRODID:-//Visit Hurricane Valley - ECPv6.15.20//NONSGML v1.0//EN
CALSCALE:GREGORIAN
METHOD:PUBLISH
X-ORIGINAL-URL:https://www.visithurricanevalley.com
X-WR-CALDESC:Events for Visit Hurricane Valley
REFRESH-INTERVAL;VALUE=DURATION:PT1H
X-Robots-Tag:noindex
X-PUBLISHED-TTL:PT1H
BEGIN:VTIMEZONE
TZID:UTC
BEGIN:STANDARD
TZOFFSETFROM:+0000
TZOFFSETTO:+0000
TZNAME:UTC
DTSTART:20220101T000000
END:STANDARD
END:VTIMEZONE
BEGIN:VEVENT
DTSTART;TZID=UTC:20230717T204500
DTEND;TZID=UTC:20230717T204500
DTSTAMP:20260423T151816
CREATED:20230622T015108Z
LAST-MODIFIED:20230622T015108Z
UID:908-1689626700-1689626700@www.visithurricanevalley.com
SUMMARY:The Hunchback of Notre Dame - Tuacahn Ampitheatre (Ivins)
DESCRIPTION:The Hunchback of Notre Dame\n\n\n\n\nJuly 15 – Oct 20\, 2023 \nFrom the Oscar®-winning team of Alan Menken and Stephen Schwartz comes a lushly-scored retelling of Victor Hugo’s epic story of love\, acceptance\, and what it means to be a hero. Tuacahn’s production of The Hunchback of Notre Dame showcases the Disney film’s beloved score as well as new songs by Menken and Schwartz. Peter Parnell’s new book embraces the story’s theatrical features with verbatim passages from Hugo’s gothic novel. \nHigh above the Tuacahn stage\, the bells of Notre Dame resound through the famed cathedral in 15th-century Paris. Quasimodo\, the deformed bell-ringer who longs to be “Out There\,” observes all of Paris reveling in the Feast of Fools. Held captive by his devious caretaker\, the archdeacon Dom Claude Frollo\, he escapes for the day and joins the boisterous crowd\, only to be treated cruelly by all but the beautiful gypsy\, Esmeralda. Quasimodo isn’t the only one captivated by her free spirit\, though – the handsome Captain Phoebus and Frollo are equally enthralled. As the three vie for her attention\, Frollo embarks on a mission to destroy the gypsies – and it’s up to Quasimodo to save them all. \nCome see the Tuacahn Amphitheatre be transformed into 15th-century Paris and follow Quasimodo on his adventure.
URL:https://www.visithurricanevalley.com/event/the-hunchback-of-notre-dame-tuacahn-ampitheatre-ivins-2/
LOCATION:Tuacahn Ampitheatre\, 1100 Tuacahn Dr\, Ivins\, UT\, 84738\, United States
CATEGORIES:Musical/Performing Arts
ATTACH;FMTTYPE=image/jpeg:https://www.visithurricanevalley.com/wp-content/uploads/2023/06/Hunchback.jpg
END:VEVENT
BEGIN:VEVENT
DTSTART;TZID=UTC:20230715T204500
DTEND;TZID=UTC:20230715T204500
DTSTAMP:20260423T151816
CREATED:20230622T015054Z
LAST-MODIFIED:20230622T015054Z
UID:907-1689453900-1689453900@www.visithurricanevalley.com
SUMMARY:The Hunchback of Notre Dame - Tuacahn Ampitheatre (Ivins)
DESCRIPTION:The Hunchback of Notre Dame\n\n\n\n\nJuly 15 – Oct 20\, 2023 \nFrom the Oscar®-winning team of Alan Menken and Stephen Schwartz comes a lushly-scored retelling of Victor Hugo’s epic story of love\, acceptance\, and what it means to be a hero. Tuacahn’s production of The Hunchback of Notre Dame showcases the Disney film’s beloved score as well as new songs by Menken and Schwartz. Peter Parnell’s new book embraces the story’s theatrical features with verbatim passages from Hugo’s gothic novel. \nHigh above the Tuacahn stage\, the bells of Notre Dame resound through the famed cathedral in 15th-century Paris. Quasimodo\, the deformed bell-ringer who longs to be “Out There\,” observes all of Paris reveling in the Feast of Fools. Held captive by his devious caretaker\, the archdeacon Dom Claude Frollo\, he escapes for the day and joins the boisterous crowd\, only to be treated cruelly by all but the beautiful gypsy\, Esmeralda. Quasimodo isn’t the only one captivated by her free spirit\, though – the handsome Captain Phoebus and Frollo are equally enthralled. As the three vie for her attention\, Frollo embarks on a mission to destroy the gypsies – and it’s up to Quasimodo to save them all. \nCome see the Tuacahn Amphitheatre be transformed into 15th-century Paris and follow Quasimodo on his adventure.
URL:https://www.visithurricanevalley.com/event/the-hunchback-of-notre-dame-tuacahn-ampitheatre-ivins/
LOCATION:Tuacahn Ampitheatre\, 1100 Tuacahn Dr\, Ivins\, UT\, 84738\, United States
CATEGORIES:Musical/Performing Arts
ATTACH;FMTTYPE=image/jpeg:https://www.visithurricanevalley.com/wp-content/uploads/2023/06/Hunchback.jpg
END:VEVENT
BEGIN:VEVENT
DTSTART;TZID=UTC:20230708T204500
DTEND;TZID=UTC:20230708T235900
DTSTAMP:20260423T151816
CREATED:20230622T005205Z
LAST-MODIFIED:20230622T005831Z
UID:863-1688849100-1688860740@www.visithurricanevalley.com
SUMMARY:Charlie & The Chocolate Factory - Tuacahn Ampitheatre (Ivins)
DESCRIPTION:Roald Dahl’s Charlie and the Chocolate Factory\n\n\n\n\nMay 13 – Oct 19\, 2023 \nThe regional premiere only at Tuacahn! Satisfy your sweet-tooth with this modern musical remake of Roald Dahl’s classic children’s novel. Charlie and the Chocolate Factory is a song-filled feast of “Pure Imagination” with a book by David Greig\, music by Marc Shaiman and lyrics by Marc Shaiman and Scott Wittman. \nCharlie Bucket\, an imaginative boy with a knack for making something out of nothing\, dreams of acquiring a golden ticket to tour Willy Wonka’s over-the-top chocolate factory and can’t believe his luck when it actually happens. Fellow contest winners: the gluttonous German\, Augustus Gloop; Daddy’s spoiled rotten princess\, Veruca Salt; chewing gum celebrity\, Violet Beauregarde; and over-amped computer hacker\, Mike Teavee\, have no idea what they’re getting themselves into\, as they each learn lessons about selfishness and greed from Wonka\, who is not only out of his mind but potentially dangerous. You’ll devour this family-friendly adventure that’s full of mouth-watering visuals that “Must be Believed to be Seen.” “Strike that! Reverse it!”
URL:https://www.visithurricanevalley.com/event/charlie-the-chocolate-factory-tuacahn-ampitheatre-ivins-5/
LOCATION:Tuacahn Ampitheatre\, 1100 Tuacahn Dr\, Ivins\, UT\, 84738\, United States
CATEGORIES:Musical/Performing Arts
ATTACH;FMTTYPE=image/jpeg:https://www.visithurricanevalley.com/wp-content/uploads/2023/06/Charlie.jpg
END:VEVENT
BEGIN:VEVENT
DTSTART;TZID=UTC:20230707T204500
DTEND;TZID=UTC:20230707T235900
DTSTAMP:20260423T151816
CREATED:20230622T012628Z
LAST-MODIFIED:20230622T012628Z
UID:891-1688762700-1688774340@www.visithurricanevalley.com
SUMMARY:Tarzan - Tuacahn Ampitheatre (Ivins)
DESCRIPTION:Tarzan\n\n\n\n\nMay 20 – Oct 21\, 2023 \nBased on Disney’s epic animated musical adventure and Edgar Rice Burroughs’s classic story of “Tarzan of the Apes\,” Tarzan features heart-pumping music by rock legend Phil Collins and a book by TONY Award-winning playwright\, David Henry Hwang. High-flying excitement and hits like the Academy Award-winning “You’ll Be in My Heart” as well as “Son of Man” and “Two Worlds” make Tarzan an unforgettable experience inside the Tuacahn Amphitheatre. \nWashed up on the shores of West Africa\, an infant boy is taken in and raised by gorillas who name him Tarzan. Apart from striving for acceptance from his ape father\, Tarzan’s life is mostly monkey business until a human expedition treks into his tribe’s territory and he encounters creatures like himself for the first time. Tarzan struggles to navigate a jungle\, thick with emotion as he discovers his animal upbringing clashing with his human instincts. \nSee Tarzan as never before in a unique outdoor setting that can only be found at Tuacahn. With water rushing the stage and Tarzan swinging high above the audience\, it will leave lasting memories for the whole family.
URL:https://www.visithurricanevalley.com/event/tarzan-tuacahn-ampitheatre-ivins-6/
LOCATION:Tuacahn Ampitheatre\, 1100 Tuacahn Dr\, Ivins\, UT\, 84738\, United States
CATEGORIES:Musical/Performing Arts
ATTACH;FMTTYPE=image/jpeg:https://www.visithurricanevalley.com/wp-content/uploads/2023/06/Tarzan.jpg
END:VEVENT
BEGIN:VEVENT
DTSTART;TZID=UTC:20230706T204500
DTEND;TZID=UTC:20230706T235900
DTSTAMP:20260423T151816
CREATED:20230622T005210Z
LAST-MODIFIED:20230622T005713Z
UID:862-1688676300-1688687940@www.visithurricanevalley.com
SUMMARY:Charlie & The Chocolate Factory - Tuacahn Ampitheatre (Ivins)
DESCRIPTION:Roald Dahl’s Charlie and the Chocolate Factory\n\n\n\n\nMay 13 – Oct 19\, 2023 \nThe regional premiere only at Tuacahn! Satisfy your sweet-tooth with this modern musical remake of Roald Dahl’s classic children’s novel. Charlie and the Chocolate Factory is a song-filled feast of “Pure Imagination” with a book by David Greig\, music by Marc Shaiman and lyrics by Marc Shaiman and Scott Wittman. \nCharlie Bucket\, an imaginative boy with a knack for making something out of nothing\, dreams of acquiring a golden ticket to tour Willy Wonka’s over-the-top chocolate factory and can’t believe his luck when it actually happens. Fellow contest winners: the gluttonous German\, Augustus Gloop; Daddy’s spoiled rotten princess\, Veruca Salt; chewing gum celebrity\, Violet Beauregarde; and over-amped computer hacker\, Mike Teavee\, have no idea what they’re getting themselves into\, as they each learn lessons about selfishness and greed from Wonka\, who is not only out of his mind but potentially dangerous. You’ll devour this family-friendly adventure that’s full of mouth-watering visuals that “Must be Believed to be Seen.” “Strike that! Reverse it!”
URL:https://www.visithurricanevalley.com/event/charlie-the-chocolate-factory-tuacahn-ampitheatre-ivins-6/
LOCATION:Tuacahn Ampitheatre\, 1100 Tuacahn Dr\, Ivins\, UT\, 84738\, United States
CATEGORIES:Musical/Performing Arts
ATTACH;FMTTYPE=image/jpeg:https://www.visithurricanevalley.com/wp-content/uploads/2023/06/Charlie.jpg
END:VEVENT
BEGIN:VEVENT
DTSTART;TZID=UTC:20230705T204500
DTEND;TZID=UTC:20230705T235900
DTSTAMP:20260423T151816
CREATED:20230622T012554Z
LAST-MODIFIED:20230622T012554Z
UID:890-1688589900-1688601540@www.visithurricanevalley.com
SUMMARY:Tarzan - Tuacahn Ampitheatre (Ivins)
DESCRIPTION:Tarzan\n\n\n\n\nMay 20 – Oct 21\, 2023 \nBased on Disney’s epic animated musical adventure and Edgar Rice Burroughs’s classic story of “Tarzan of the Apes\,” Tarzan features heart-pumping music by rock legend Phil Collins and a book by TONY Award-winning playwright\, David Henry Hwang. High-flying excitement and hits like the Academy Award-winning “You’ll Be in My Heart” as well as “Son of Man” and “Two Worlds” make Tarzan an unforgettable experience inside the Tuacahn Amphitheatre. \nWashed up on the shores of West Africa\, an infant boy is taken in and raised by gorillas who name him Tarzan. Apart from striving for acceptance from his ape father\, Tarzan’s life is mostly monkey business until a human expedition treks into his tribe’s territory and he encounters creatures like himself for the first time. Tarzan struggles to navigate a jungle\, thick with emotion as he discovers his animal upbringing clashing with his human instincts. \nSee Tarzan as never before in a unique outdoor setting that can only be found at Tuacahn. With water rushing the stage and Tarzan swinging high above the audience\, it will leave lasting memories for the whole family.
URL:https://www.visithurricanevalley.com/event/tarzan-tuacahn-ampitheatre-ivins-5/
LOCATION:Tuacahn Ampitheatre\, 1100 Tuacahn Dr\, Ivins\, UT\, 84738\, United States
CATEGORIES:Musical/Performing Arts
ATTACH;FMTTYPE=image/jpeg:https://www.visithurricanevalley.com/wp-content/uploads/2023/06/Tarzan.jpg
END:VEVENT
BEGIN:VEVENT
DTSTART;TZID=UTC:20230701T204500
DTEND;TZID=UTC:20230701T235900
DTSTAMP:20260423T151816
CREATED:20230622T012522Z
LAST-MODIFIED:20230622T012522Z
UID:889-1688244300-1688255940@www.visithurricanevalley.com
SUMMARY:Tarzan - Tuacahn Ampitheatre (Ivins)
DESCRIPTION:Tarzan\n\n\n\n\nMay 20 – Oct 21\, 2023 \nBased on Disney’s epic animated musical adventure and Edgar Rice Burroughs’s classic story of “Tarzan of the Apes\,” Tarzan features heart-pumping music by rock legend Phil Collins and a book by TONY Award-winning playwright\, David Henry Hwang. High-flying excitement and hits like the Academy Award-winning “You’ll Be in My Heart” as well as “Son of Man” and “Two Worlds” make Tarzan an unforgettable experience inside the Tuacahn Amphitheatre. \nWashed up on the shores of West Africa\, an infant boy is taken in and raised by gorillas who name him Tarzan. Apart from striving for acceptance from his ape father\, Tarzan’s life is mostly monkey business until a human expedition treks into his tribe’s territory and he encounters creatures like himself for the first time. Tarzan struggles to navigate a jungle\, thick with emotion as he discovers his animal upbringing clashing with his human instincts. \nSee Tarzan as never before in a unique outdoor setting that can only be found at Tuacahn. With water rushing the stage and Tarzan swinging high above the audience\, it will leave lasting memories for the whole family.
URL:https://www.visithurricanevalley.com/event/tarzan-tuacahn-ampitheatre-ivins-4/
LOCATION:Tuacahn Ampitheatre\, 1100 Tuacahn Dr\, Ivins\, UT\, 84738\, United States
CATEGORIES:Musical/Performing Arts
ATTACH;FMTTYPE=image/jpeg:https://www.visithurricanevalley.com/wp-content/uploads/2023/06/Tarzan.jpg
END:VEVENT
BEGIN:VEVENT
DTSTART;TZID=UTC:20230630T204500
DTEND;TZID=UTC:20230630T235900
DTSTAMP:20260423T151816
CREATED:20230622T005215Z
LAST-MODIFIED:20230622T005636Z
UID:861-1688157900-1688169540@www.visithurricanevalley.com
SUMMARY:Charlie & The Chocolate Factory - Tuacahn Ampitheatre (Ivins)
DESCRIPTION:Roald Dahl’s Charlie and the Chocolate Factory\n\n\n\n\nMay 13 – Oct 19\, 2023 \nThe regional premiere only at Tuacahn! Satisfy your sweet-tooth with this modern musical remake of Roald Dahl’s classic children’s novel. Charlie and the Chocolate Factory is a song-filled feast of “Pure Imagination” with a book by David Greig\, music by Marc Shaiman and lyrics by Marc Shaiman and Scott Wittman. \nCharlie Bucket\, an imaginative boy with a knack for making something out of nothing\, dreams of acquiring a golden ticket to tour Willy Wonka’s over-the-top chocolate factory and can’t believe his luck when it actually happens. Fellow contest winners: the gluttonous German\, Augustus Gloop; Daddy’s spoiled rotten princess\, Veruca Salt; chewing gum celebrity\, Violet Beauregarde; and over-amped computer hacker\, Mike Teavee\, have no idea what they’re getting themselves into\, as they each learn lessons about selfishness and greed from Wonka\, who is not only out of his mind but potentially dangerous. You’ll devour this family-friendly adventure that’s full of mouth-watering visuals that “Must be Believed to be Seen.” “Strike that! Reverse it!”
URL:https://www.visithurricanevalley.com/event/charlie-the-chocolate-factory-tuacahn-ampitheatre-ivins-7/
LOCATION:Tuacahn Ampitheatre\, 1100 Tuacahn Dr\, Ivins\, UT\, 84738\, United States
CATEGORIES:Musical/Performing Arts
ATTACH;FMTTYPE=image/jpeg:https://www.visithurricanevalley.com/wp-content/uploads/2023/06/Charlie.jpg
END:VEVENT
BEGIN:VEVENT
DTSTART;TZID=UTC:20230629T204500
DTEND;TZID=UTC:20230629T235900
DTSTAMP:20260423T151816
CREATED:20230622T012451Z
LAST-MODIFIED:20230622T012451Z
UID:888-1688071500-1688083140@www.visithurricanevalley.com
SUMMARY:Tarzan - Tuacahn Ampitheatre (Ivins)
DESCRIPTION:Tarzan\n\n\n\n\nMay 20 – Oct 21\, 2023 \nBased on Disney’s epic animated musical adventure and Edgar Rice Burroughs’s classic story of “Tarzan of the Apes\,” Tarzan features heart-pumping music by rock legend Phil Collins and a book by TONY Award-winning playwright\, David Henry Hwang. High-flying excitement and hits like the Academy Award-winning “You’ll Be in My Heart” as well as “Son of Man” and “Two Worlds” make Tarzan an unforgettable experience inside the Tuacahn Amphitheatre. \nWashed up on the shores of West Africa\, an infant boy is taken in and raised by gorillas who name him Tarzan. Apart from striving for acceptance from his ape father\, Tarzan’s life is mostly monkey business until a human expedition treks into his tribe’s territory and he encounters creatures like himself for the first time. Tarzan struggles to navigate a jungle\, thick with emotion as he discovers his animal upbringing clashing with his human instincts. \nSee Tarzan as never before in a unique outdoor setting that can only be found at Tuacahn. With water rushing the stage and Tarzan swinging high above the audience\, it will leave lasting memories for the whole family.
URL:https://www.visithurricanevalley.com/event/tarzan-tuacahn-ampitheatre-ivins-3/
LOCATION:Tuacahn Ampitheatre\, 1100 Tuacahn Dr\, Ivins\, UT\, 84738\, United States
CATEGORIES:Musical/Performing Arts
ATTACH;FMTTYPE=image/jpeg:https://www.visithurricanevalley.com/wp-content/uploads/2023/06/Tarzan.jpg
END:VEVENT
BEGIN:VEVENT
DTSTART;TZID=UTC:20230628T204500
DTEND;TZID=UTC:20230628T235900
DTSTAMP:20260423T151816
CREATED:20230622T005219Z
LAST-MODIFIED:20230622T005535Z
UID:860-1687985100-1687996740@www.visithurricanevalley.com
SUMMARY:Charlie & The Chocolate Factory - Tuacahn Ampitheatre (Ivins)
DESCRIPTION:Roald Dahl’s Charlie and the Chocolate Factory\n\n\n\n\nMay 13 – Oct 19\, 2023 \nThe regional premiere only at Tuacahn! Satisfy your sweet-tooth with this modern musical remake of Roald Dahl’s classic children’s novel. Charlie and the Chocolate Factory is a song-filled feast of “Pure Imagination” with a book by David Greig\, music by Marc Shaiman and lyrics by Marc Shaiman and Scott Wittman. \nCharlie Bucket\, an imaginative boy with a knack for making something out of nothing\, dreams of acquiring a golden ticket to tour Willy Wonka’s over-the-top chocolate factory and can’t believe his luck when it actually happens. Fellow contest winners: the gluttonous German\, Augustus Gloop; Daddy’s spoiled rotten princess\, Veruca Salt; chewing gum celebrity\, Violet Beauregarde; and over-amped computer hacker\, Mike Teavee\, have no idea what they’re getting themselves into\, as they each learn lessons about selfishness and greed from Wonka\, who is not only out of his mind but potentially dangerous. You’ll devour this family-friendly adventure that’s full of mouth-watering visuals that “Must be Believed to be Seen.” “Strike that! Reverse it!”
URL:https://www.visithurricanevalley.com/event/charlie-the-chocolate-factory-tuacahn-ampitheatre-ivins-8/
LOCATION:Tuacahn Ampitheatre\, 1100 Tuacahn Dr\, Ivins\, UT\, 84738\, United States
CATEGORIES:Musical/Performing Arts
ATTACH;FMTTYPE=image/jpeg:https://www.visithurricanevalley.com/wp-content/uploads/2023/06/Charlie.jpg
END:VEVENT
BEGIN:VEVENT
DTSTART;TZID=UTC:20230627T204500
DTEND;TZID=UTC:20230627T235900
DTSTAMP:20260423T151816
CREATED:20230622T012417Z
LAST-MODIFIED:20230622T012417Z
UID:887-1687898700-1687910340@www.visithurricanevalley.com
SUMMARY:Tarzan - Tuacahn Ampitheatre (Ivins)
DESCRIPTION:Tarzan\n\n\n\n\nMay 20 – Oct 21\, 2023 \nBased on Disney’s epic animated musical adventure and Edgar Rice Burroughs’s classic story of “Tarzan of the Apes\,” Tarzan features heart-pumping music by rock legend Phil Collins and a book by TONY Award-winning playwright\, David Henry Hwang. High-flying excitement and hits like the Academy Award-winning “You’ll Be in My Heart” as well as “Son of Man” and “Two Worlds” make Tarzan an unforgettable experience inside the Tuacahn Amphitheatre. \nWashed up on the shores of West Africa\, an infant boy is taken in and raised by gorillas who name him Tarzan. Apart from striving for acceptance from his ape father\, Tarzan’s life is mostly monkey business until a human expedition treks into his tribe’s territory and he encounters creatures like himself for the first time. Tarzan struggles to navigate a jungle\, thick with emotion as he discovers his animal upbringing clashing with his human instincts. \nSee Tarzan as never before in a unique outdoor setting that can only be found at Tuacahn. With water rushing the stage and Tarzan swinging high above the audience\, it will leave lasting memories for the whole family.
URL:https://www.visithurricanevalley.com/event/tarzan-tuacahn-ampitheatre-ivins-2/
LOCATION:Tuacahn Ampitheatre\, 1100 Tuacahn Dr\, Ivins\, UT\, 84738\, United States
CATEGORIES:Musical/Performing Arts
ATTACH;FMTTYPE=image/jpeg:https://www.visithurricanevalley.com/wp-content/uploads/2023/06/Tarzan.jpg
END:VEVENT
BEGIN:VEVENT
DTSTART;TZID=UTC:20230626T204500
DTEND;TZID=UTC:20230626T235900
DTSTAMP:20260423T151816
CREATED:20230622T005223Z
LAST-MODIFIED:20230622T005401Z
UID:856-1687812300-1687823940@www.visithurricanevalley.com
SUMMARY:Charlie & The Chocolate Factory - Tuacahn Ampitheatre (Ivins)
DESCRIPTION:Roald Dahl’s Charlie and the Chocolate Factory\n\n\n\n\nMay 13 – Oct 19\, 2023 \nThe regional premiere only at Tuacahn! Satisfy your sweet-tooth with this modern musical remake of Roald Dahl’s classic children’s novel. Charlie and the Chocolate Factory is a song-filled feast of “Pure Imagination” with a book by David Greig\, music by Marc Shaiman and lyrics by Marc Shaiman and Scott Wittman. \nCharlie Bucket\, an imaginative boy with a knack for making something out of nothing\, dreams of acquiring a golden ticket to tour Willy Wonka’s over-the-top chocolate factory and can’t believe his luck when it actually happens. Fellow contest winners: the gluttonous German\, Augustus Gloop; Daddy’s spoiled rotten princess\, Veruca Salt; chewing gum celebrity\, Violet Beauregarde; and over-amped computer hacker\, Mike Teavee\, have no idea what they’re getting themselves into\, as they each learn lessons about selfishness and greed from Wonka\, who is not only out of his mind but potentially dangerous. You’ll devour this family-friendly adventure that’s full of mouth-watering visuals that “Must be Believed to be Seen.” “Strike that! Reverse it!”
URL:https://www.visithurricanevalley.com/event/charlie-the-chocolate-factory-tuacahn-ampitheatre-ivins-9/
LOCATION:Tuacahn Ampitheatre\, 1100 Tuacahn Dr\, Ivins\, UT\, 84738\, United States
CATEGORIES:Musical/Performing Arts
ATTACH;FMTTYPE=image/jpeg:https://www.visithurricanevalley.com/wp-content/uploads/2023/06/Charlie.jpg
END:VEVENT
BEGIN:VEVENT
DTSTART;TZID=UTC:20230624T204500
DTEND;TZID=UTC:20230624T235900
DTSTAMP:20260423T151816
CREATED:20230622T005226Z
LAST-MODIFIED:20230622T005315Z
UID:855-1687639500-1687651140@www.visithurricanevalley.com
SUMMARY:Charlie & The Chocolate Factory - Tuacahn Ampitheatre (Ivins)
DESCRIPTION:Roald Dahl’s Charlie and the Chocolate Factory\n\n\n\n\nMay 13 – Oct 19\, 2023 \nThe regional premiere only at Tuacahn! Satisfy your sweet-tooth with this modern musical remake of Roald Dahl’s classic children’s novel. Charlie and the Chocolate Factory is a song-filled feast of “Pure Imagination” with a book by David Greig\, music by Marc Shaiman and lyrics by Marc Shaiman and Scott Wittman. \nCharlie Bucket\, an imaginative boy with a knack for making something out of nothing\, dreams of acquiring a golden ticket to tour Willy Wonka’s over-the-top chocolate factory and can’t believe his luck when it actually happens. Fellow contest winners: the gluttonous German\, Augustus Gloop; Daddy’s spoiled rotten princess\, Veruca Salt; chewing gum celebrity\, Violet Beauregarde; and over-amped computer hacker\, Mike Teavee\, have no idea what they’re getting themselves into\, as they each learn lessons about selfishness and greed from Wonka\, who is not only out of his mind but potentially dangerous. You’ll devour this family-friendly adventure that’s full of mouth-watering visuals that “Must be Believed to be Seen.” “Strike that! Reverse it!”
URL:https://www.visithurricanevalley.com/event/charlie-the-chocolate-factory-tuacahn-ampitheatre-ivins-10/
LOCATION:Tuacahn Ampitheatre\, 1100 Tuacahn Dr\, Ivins\, UT\, 84738\, United States
CATEGORIES:Musical/Performing Arts
ATTACH;FMTTYPE=image/jpeg:https://www.visithurricanevalley.com/wp-content/uploads/2023/06/Charlie.jpg
END:VEVENT
BEGIN:VEVENT
DTSTART;TZID=UTC:20230623T204500
DTEND;TZID=UTC:20230623T235900
DTSTAMP:20260423T151816
CREATED:20230622T012342Z
LAST-MODIFIED:20230622T012342Z
UID:883-1687553100-1687564740@www.visithurricanevalley.com
SUMMARY:Tarzan - Tuacahn Ampitheatre (Ivins)
DESCRIPTION:Tarzan\n\n\n\n\nMay 20 – Oct 21\, 2023 \nBased on Disney’s epic animated musical adventure and Edgar Rice Burroughs’s classic story of “Tarzan of the Apes\,” Tarzan features heart-pumping music by rock legend Phil Collins and a book by TONY Award-winning playwright\, David Henry Hwang. High-flying excitement and hits like the Academy Award-winning “You’ll Be in My Heart” as well as “Son of Man” and “Two Worlds” make Tarzan an unforgettable experience inside the Tuacahn Amphitheatre. \nWashed up on the shores of West Africa\, an infant boy is taken in and raised by gorillas who name him Tarzan. Apart from striving for acceptance from his ape father\, Tarzan’s life is mostly monkey business until a human expedition treks into his tribe’s territory and he encounters creatures like himself for the first time. Tarzan struggles to navigate a jungle\, thick with emotion as he discovers his animal upbringing clashing with his human instincts. \nSee Tarzan as never before in a unique outdoor setting that can only be found at Tuacahn. With water rushing the stage and Tarzan swinging high above the audience\, it will leave lasting memories for the whole family.
URL:https://www.visithurricanevalley.com/event/tarzan-tuacahn-ampitheatre-ivins/
LOCATION:Tuacahn Ampitheatre\, 1100 Tuacahn Dr\, Ivins\, UT\, 84738\, United States
CATEGORIES:Musical/Performing Arts
ATTACH;FMTTYPE=image/jpeg:https://www.visithurricanevalley.com/wp-content/uploads/2023/06/Tarzan.jpg
END:VEVENT
BEGIN:VEVENT
DTSTART;TZID=UTC:20230622T204500
DTEND;TZID=UTC:20230622T235900
DTSTAMP:20260423T151816
CREATED:20230622T004609Z
LAST-MODIFIED:20230622T005230Z
UID:853-1687466700-1687478340@www.visithurricanevalley.com
SUMMARY:Charlie & The Chocolate Factory - Tuacahn Ampitheatre (Ivins)
DESCRIPTION:Roald Dahl’s Charlie and the Chocolate Factory\n\n\n\n\nMay 13 – Oct 19\, 2023 \nThe regional premiere only at Tuacahn! Satisfy your sweet-tooth with this modern musical remake of Roald Dahl’s classic children’s novel. Charlie and the Chocolate Factory is a song-filled feast of “Pure Imagination” with a book by David Greig\, music by Marc Shaiman and lyrics by Marc Shaiman and Scott Wittman. \nCharlie Bucket\, an imaginative boy with a knack for making something out of nothing\, dreams of acquiring a golden ticket to tour Willy Wonka’s over-the-top chocolate factory and can’t believe his luck when it actually happens. Fellow contest winners: the gluttonous German\, Augustus Gloop; Daddy’s spoiled rotten princess\, Veruca Salt; chewing gum celebrity\, Violet Beauregarde; and over-amped computer hacker\, Mike Teavee\, have no idea what they’re getting themselves into\, as they each learn lessons about selfishness and greed from Wonka\, who is not only out of his mind but potentially dangerous. You’ll devour this family-friendly adventure that’s full of mouth-watering visuals that “Must be Believed to be Seen.” “Strike that! Reverse it!”
URL:https://www.visithurricanevalley.com/event/charlie-the-chocolate-factory-tuacahn-ampitheatre-ivins/
LOCATION:Tuacahn Ampitheatre\, 1100 Tuacahn Dr\, Ivins\, UT\, 84738\, United States
CATEGORIES:Musical/Performing Arts
ATTACH;FMTTYPE=image/jpeg:https://www.visithurricanevalley.com/wp-content/uploads/2023/06/Charlie.jpg
END:VEVENT
BEGIN:VEVENT
DTSTART;TZID=UTC:20230621T204500
DTEND;TZID=UTC:20230621T235900
DTSTAMP:20260423T151816
CREATED:20230622T005013Z
LAST-MODIFIED:20230622T012113Z
UID:857-1687380300-1687391940@www.visithurricanevalley.com
SUMMARY:Tarzan - Tuacahn Ampitheatre (Ivins)
DESCRIPTION:Tarzan\n\n\n\n\nMay 20 – Oct 21\, 2023 \nBased on Disney’s epic animated musical adventure and Edgar Rice Burroughs’s classic story of “Tarzan of the Apes\,” Tarzan features heart-pumping music by rock legend Phil Collins and a book by TONY Award-winning playwright\, David Henry Hwang. High-flying excitement and hits like the Academy Award-winning “You’ll Be in My Heart” as well as “Son of Man” and “Two Worlds” make Tarzan an unforgettable experience inside the Tuacahn Amphitheatre. \nWashed up on the shores of West Africa\, an infant boy is taken in and raised by gorillas who name him Tarzan. Apart from striving for acceptance from his ape father\, Tarzan’s life is mostly monkey business until a human expedition treks into his tribe’s territory and he encounters creatures like himself for the first time. Tarzan struggles to navigate a jungle\, thick with emotion as he discovers his animal upbringing clashing with his human instincts. \nSee Tarzan as never before in a unique outdoor setting that can only be found at Tuacahn. With water rushing the stage and Tarzan swinging high above the audience\, it will leave lasting memories for the whole family.
URL:https://www.visithurricanevalley.com/event/charlie-the-chocolate-factory-tuacahn-ampitheatre-ivins-2/
LOCATION:Tuacahn Ampitheatre\, 1100 Tuacahn Dr\, Ivins\, UT\, 84738\, United States
CATEGORIES:Musical/Performing Arts
ATTACH;FMTTYPE=image/jpeg:https://www.visithurricanevalley.com/wp-content/uploads/2023/06/Tarzan.jpg
END:VEVENT
END:VCALENDAR