BEGIN:VCALENDAR
VERSION:2.0
PRODID:-//Visit Hurricane Valley - ECPv6.15.20//NONSGML v1.0//EN
CALSCALE:GREGORIAN
METHOD:PUBLISH
X-ORIGINAL-URL:https://www.visithurricanevalley.com
X-WR-CALDESC:Events for Visit Hurricane Valley
REFRESH-INTERVAL;VALUE=DURATION:PT1H
X-Robots-Tag:noindex
X-PUBLISHED-TTL:PT1H
BEGIN:VTIMEZONE
TZID:UTC
BEGIN:STANDARD
TZOFFSETFROM:+0000
TZOFFSETTO:+0000
TZNAME:UTC
DTSTART:20220101T000000
END:STANDARD
END:VTIMEZONE
BEGIN:VEVENT
DTSTART;TZID=UTC:20230928T200000
DTEND;TZID=UTC:20230928T210000
DTSTAMP:20260423T124402
CREATED:20230622T002816Z
LAST-MODIFIED:20230622T020053Z
UID:842-1695931200-1695934800@www.visithurricanevalley.com
SUMMARY:Concerts in the Park (Hurricane)
DESCRIPTION:THE HUBCAPS \nGrab your camp chair or favorite blanket and get ready to enjoy the music of these awesome performers.
URL:https://www.visithurricanevalley.com/event/concerts-in-the-park-hurricane-8/
LOCATION:Pioneer Park\, 200 N. Main St\, Hurricane\, UT\, 84737\, United States
CATEGORIES:Music
END:VEVENT
BEGIN:VEVENT
DTSTART;TZID=UTC:20230914T200000
DTEND;TZID=UTC:20230914T210000
DTSTAMP:20260423T124402
CREATED:20230622T002726Z
LAST-MODIFIED:20230622T020053Z
UID:840-1694721600-1694725200@www.visithurricanevalley.com
SUMMARY:Concerts in the Park (Hurricane)
DESCRIPTION:WAY OFF BROADS \nGrab your camp chair or favorite blanket and get ready to enjoy the music of these awesome performers.
URL:https://www.visithurricanevalley.com/event/concerts-in-the-park-hurricane-7/
LOCATION:Pioneer Park\, 200 N. Main St\, Hurricane\, UT\, 84737\, United States
CATEGORIES:Music
END:VEVENT
BEGIN:VEVENT
DTSTART;TZID=UTC:20230824T200000
DTEND;TZID=UTC:20230824T210000
DTSTAMP:20260423T124402
CREATED:20230622T002633Z
LAST-MODIFIED:20230622T020053Z
UID:838-1692907200-1692910800@www.visithurricanevalley.com
SUMMARY:Concerts in the Park (Hurricane)
DESCRIPTION:THE SCOTT EMETT BAND \nGrab your camp chair or favorite blanket and get ready to enjoy the music of these awesome performers.
URL:https://www.visithurricanevalley.com/event/concerts-in-the-park-hurricane-6/
LOCATION:Pioneer Park\, 200 N. Main St\, Hurricane\, UT\, 84737\, United States
CATEGORIES:Music
END:VEVENT
BEGIN:VEVENT
DTSTART;TZID=UTC:20230814T193000
DTEND;TZID=UTC:20230814T193000
DTSTAMP:20260423T124402
CREATED:20230622T025332Z
LAST-MODIFIED:20230622T025332Z
UID:987-1692041400-1692041400@www.visithurricanevalley.com
SUMMARY:Concert in the Park (St. George)
DESCRIPTION:CLOSURE \nThe Concert in the Park Series is a celebration of wonderful music\, open parks\, and family celebration. The Series runs April through September at Vernon Worthen Park. Park seating is available. Families are welcome to bring blankets\, lawn chairs\, and food. The concert series is FREE to the public. Don’t miss the second Monday of each month through September. Park seating is available\, bring blankets\, lawn chairs\, food\, and the family. For more information call 435-627-4580.
URL:https://www.visithurricanevalley.com/event/concert-in-the-park-st-george-3/
LOCATION:Vernon Worthen Park\, 300 S 400 E\, St. George\, UT\, 84770\, United States
CATEGORIES:Community Events,Music
END:VEVENT
BEGIN:VEVENT
DTSTART;TZID=UTC:20230810T200000
DTEND;TZID=UTC:20230810T210000
DTSTAMP:20260423T124402
CREATED:20230622T002504Z
LAST-MODIFIED:20230622T020053Z
UID:836-1691697600-1691701200@www.visithurricanevalley.com
SUMMARY:Concerts in the Park (Hurricane)
DESCRIPTION:WOODSHED JAM \nGrab your camp chair or favorite blanket and get ready to enjoy the music of these awesome performers.
URL:https://www.visithurricanevalley.com/event/concerts-in-the-park-hurricane-5/
LOCATION:Pioneer Park\, 200 N. Main St\, Hurricane\, UT\, 84737\, United States
CATEGORIES:Music
END:VEVENT
BEGIN:VEVENT
DTSTART;TZID=UTC:20230727T200000
DTEND;TZID=UTC:20230727T210000
DTSTAMP:20260423T124402
CREATED:20230622T002405Z
LAST-MODIFIED:20230622T020053Z
UID:834-1690488000-1690491600@www.visithurricanevalley.com
SUMMARY:Concerts in the Park (Hurricane)
DESCRIPTION:THE WALKMEN \nGrab your camp chair or favorite blanket and get ready to enjoy the music of these awesome performers.
URL:https://www.visithurricanevalley.com/event/concerts-in-the-park-hurricane-4/
LOCATION:Pioneer Park\, 200 N. Main St\, Hurricane\, UT\, 84737\, United States
CATEGORIES:Music
END:VEVENT
BEGIN:VEVENT
DTSTART;TZID=UTC:20230713T200000
DTEND;TZID=UTC:20230713T210000
DTSTAMP:20260423T124402
CREATED:20230622T002308Z
LAST-MODIFIED:20230622T020053Z
UID:832-1689278400-1689282000@www.visithurricanevalley.com
SUMMARY:Concerts in the Park (Hurricane)
DESCRIPTION:RIVER HOUSE BAND \nGrab your camp chair or favorite blanket and get ready to enjoy the music of these awesome performers.
URL:https://www.visithurricanevalley.com/event/concerts-in-the-park-hurricane-3/
LOCATION:Pioneer Park\, 200 N. Main St\, Hurricane\, UT\, 84737\, United States
CATEGORIES:Music
END:VEVENT
BEGIN:VEVENT
DTSTART;TZID=UTC:20230710T193000
DTEND;TZID=UTC:20230710T193000
DTSTAMP:20260423T124402
CREATED:20230622T025307Z
LAST-MODIFIED:20230622T025307Z
UID:984-1689017400-1689017400@www.visithurricanevalley.com
SUMMARY:Concert in the Park (St. George)
DESCRIPTION:RYAN SHUPE & THE RUBBERBAND \nThe Concert in the Park Series is a celebration of wonderful music\, open parks\, and family celebration. The Series runs April through September at Vernon Worthen Park. Park seating is available. Families are welcome to bring blankets\, lawn chairs\, and food. The concert series is FREE to the public. Don’t miss the second Monday of each month through September. Park seating is available\, bring blankets\, lawn chairs\, food\, and the family. For more information call 435-627-4580.
URL:https://www.visithurricanevalley.com/event/concert-in-the-park-st-george-2/
LOCATION:Vernon Worthen Park\, 300 S 400 E\, St. George\, UT\, 84770\, United States
CATEGORIES:Community Events,Music
END:VEVENT
BEGIN:VEVENT
DTSTART;TZID=UTC:20230630T200000
DTEND;TZID=UTC:20230630T200000
DTSTAMP:20260423T124402
CREATED:20230622T003449Z
LAST-MODIFIED:20230622T003623Z
UID:851-1688155200-1688155200@www.visithurricanevalley.com
SUMMARY:Sand Hollow Sunset Concert Series (Hurricane)
DESCRIPTION:Good Vibrations – Beach Boys Tribute
URL:https://www.visithurricanevalley.com/event/sand-hollow-sunset-concert-series-hurricane-2/
LOCATION:The Rock Bowl at Sand Hollow Resort\, 5662 W Clubhouse Dr\, Hurricane\, UT\, 84737\, United States
CATEGORIES:Music
END:VEVENT
BEGIN:VEVENT
DTSTART;TZID=UTC:20230623T184500
DTEND;TZID=UTC:20230623T213000
DTSTAMP:20260423T124402
CREATED:20230622T003341Z
LAST-MODIFIED:20230622T003341Z
UID:844-1687545900-1687555800@www.visithurricanevalley.com
SUMMARY:Sand Hollow Sunset Concert Series (Hurricane)
DESCRIPTION:Kings of Queen \nwith Special Guest\, Apollo’s Army
URL:https://www.visithurricanevalley.com/event/sand-hollow-sunset-concert-series-hurricane/
LOCATION:The Rock Bowl at Sand Hollow Resort\, 5662 W Clubhouse Dr\, Hurricane\, UT\, 84737\, United States
CATEGORIES:Music
END:VEVENT
BEGIN:VEVENT
DTSTART;TZID=UTC:20230622T200000
DTEND;TZID=UTC:20230622T210000
DTSTAMP:20260423T124402
CREATED:20230622T002051Z
LAST-MODIFIED:20230622T020230Z
UID:830-1687464000-1687467600@www.visithurricanevalley.com
SUMMARY:Concerts in the Park (Hurricane)
DESCRIPTION:ROCK N’ HORSE BAND \nGrab your camp chair or favorite blanket and get ready to enjoy the music of these awesome performers.
URL:https://www.visithurricanevalley.com/event/concerts-in-the-park-hurricane-2/
LOCATION:Pioneer Park\, 200 N. Main St\, Hurricane\, UT\, 84737\, United States
CATEGORIES:Music
END:VEVENT
BEGIN:VEVENT
DTSTART;TZID=UTC:20230612T193000
DTEND;TZID=UTC:20230612T193000
DTSTAMP:20260423T124402
CREATED:20230622T025019Z
LAST-MODIFIED:20230622T025019Z
UID:976-1686598200-1686598200@www.visithurricanevalley.com
SUMMARY:Concert in the Park (St. George)
DESCRIPTION:80’s DAZE \nThe Concert in the Park Series is a celebration of wonderful music\, open parks\, and family celebration. The Series runs April through September at Vernon Worthen Park. Park seating is available. Families are welcome to bring blankets\, lawn chairs\, and food. The concert series is FREE to the public. Don’t miss the second Monday of each month through September. Park seating is available\, bring blankets\, lawn chairs\, food\, and the family. For more information call 435-627-4580.
URL:https://www.visithurricanevalley.com/event/concert-in-the-park-st-george/
LOCATION:Vernon Worthen Park\, 300 S 400 E\, St. George\, UT\, 84770\, United States
CATEGORIES:Community Events,Music
END:VEVENT
BEGIN:VEVENT
DTSTART;TZID=UTC:20230608T200000
DTEND;TZID=UTC:20230608T210000
DTSTAMP:20260423T124402
CREATED:20230622T001107Z
LAST-MODIFIED:20230622T020214Z
UID:823-1686254400-1686258000@www.visithurricanevalley.com
SUMMARY:Concerts in the Park (Hurricane)
DESCRIPTION:RED DOG ACOUSTIC \nGrab your camp chair or favorite blanket and get ready to enjoy the music of these awesome performers.
URL:https://www.visithurricanevalley.com/event/concerts-in-the-park-hurricane/
LOCATION:Pioneer Park\, 200 N. Main St\, Hurricane\, UT\, 84737\, United States
CATEGORIES:Music
END:VEVENT
END:VCALENDAR