BEGIN:VCALENDAR
VERSION:2.0
PRODID:-//Visit Hurricane Valley - ECPv6.15.20//NONSGML v1.0//EN
CALSCALE:GREGORIAN
METHOD:PUBLISH
X-WR-CALNAME:Visit Hurricane Valley
X-ORIGINAL-URL:https://www.visithurricanevalley.com
X-WR-CALDESC:Events for Visit Hurricane Valley
REFRESH-INTERVAL;VALUE=DURATION:PT1H
X-Robots-Tag:noindex
X-PUBLISHED-TTL:PT1H
BEGIN:VTIMEZONE
TZID:UTC
BEGIN:STANDARD
TZOFFSETFROM:+0000
TZOFFSETTO:+0000
TZNAME:UTC
DTSTART:20220101T000000
END:STANDARD
END:VTIMEZONE
BEGIN:VEVENT
DTSTART;TZID=UTC:20230814T193000
DTEND;TZID=UTC:20230814T193000
DTSTAMP:20260423T143735
CREATED:20230622T025332Z
LAST-MODIFIED:20230622T025332Z
UID:987-1692041400-1692041400@www.visithurricanevalley.com
SUMMARY:Concert in the Park (St. George)
DESCRIPTION:CLOSURE \nThe Concert in the Park Series is a celebration of wonderful music\, open parks\, and family celebration. The Series runs April through September at Vernon Worthen Park. Park seating is available. Families are welcome to bring blankets\, lawn chairs\, and food. The concert series is FREE to the public. Don’t miss the second Monday of each month through September. Park seating is available\, bring blankets\, lawn chairs\, food\, and the family. For more information call 435-627-4580.
URL:https://www.visithurricanevalley.com/event/concert-in-the-park-st-george-3/
LOCATION:Vernon Worthen Park\, 300 S 400 E\, St. George\, UT\, 84770\, United States
CATEGORIES:Community Events,Music
END:VEVENT
BEGIN:VEVENT
DTSTART;TZID=UTC:20230729T090000
DTEND;TZID=UTC:20230729T130000
DTSTAMP:20260423T143735
CREATED:20230622T022320Z
LAST-MODIFIED:20230622T022320Z
UID:951-1690621200-1690635600@www.visithurricanevalley.com
SUMMARY:Farmers Market (Hurricane)
DESCRIPTION:
URL:https://www.visithurricanevalley.com/event/farmers-market-hurricane-6/
LOCATION:Hurricane Farmers Market\, 63 S 100 W\, Hurricane\, UT\, 84737\, United States
CATEGORIES:Community Events,Farmers Market
END:VEVENT
BEGIN:VEVENT
DTSTART;TZID=UTC:20230722T090000
DTEND;TZID=UTC:20230722T130000
DTSTAMP:20260423T143735
CREATED:20230622T022300Z
LAST-MODIFIED:20230622T022300Z
UID:950-1690016400-1690030800@www.visithurricanevalley.com
SUMMARY:Farmers Market (Hurricane)
DESCRIPTION:
URL:https://www.visithurricanevalley.com/event/farmers-market-hurricane-5/
LOCATION:Hurricane Farmers Market\, 63 S 100 W\, Hurricane\, UT\, 84737\, United States
CATEGORIES:Community Events,Farmers Market
END:VEVENT
BEGIN:VEVENT
DTSTART;TZID=UTC:20230715T090000
DTEND;TZID=UTC:20230715T130000
DTSTAMP:20260423T143735
CREATED:20230622T022240Z
LAST-MODIFIED:20230622T022240Z
UID:949-1689411600-1689426000@www.visithurricanevalley.com
SUMMARY:Farmers Market (Hurricane)
DESCRIPTION:
URL:https://www.visithurricanevalley.com/event/farmers-market-hurricane-4/
LOCATION:Hurricane Farmers Market\, 63 S 100 W\, Hurricane\, UT\, 84737\, United States
CATEGORIES:Community Events,Farmers Market
END:VEVENT
BEGIN:VEVENT
DTSTART;TZID=UTC:20230715T090000
DTEND;TZID=UTC:20230715T120000
DTSTAMP:20260423T143735
CREATED:20230622T023834Z
LAST-MODIFIED:20230622T023834Z
UID:971-1689411600-1689422400@www.visithurricanevalley.com
SUMMARY:Neighborhood Market (Toquerville)
DESCRIPTION:Every 3rd Saturday\, May through October 2023 \n\nFresh Farm Produce\nHandcrafted Items\nHome Baked Goods\nFine Art\nHome Decor\nFood Vendors
URL:https://www.visithurricanevalley.com/event/neighborhood-market-toquerville-2/
LOCATION:Toquerville\, 250 W Center Street\, Toquerville\, UT\, 84774\, United States
CATEGORIES:Community Events,Farmers Market
END:VEVENT
BEGIN:VEVENT
DTSTART;TZID=UTC:20230710T193000
DTEND;TZID=UTC:20230710T193000
DTSTAMP:20260423T143735
CREATED:20230622T025307Z
LAST-MODIFIED:20230622T025307Z
UID:984-1689017400-1689017400@www.visithurricanevalley.com
SUMMARY:Concert in the Park (St. George)
DESCRIPTION:RYAN SHUPE & THE RUBBERBAND \nThe Concert in the Park Series is a celebration of wonderful music\, open parks\, and family celebration. The Series runs April through September at Vernon Worthen Park. Park seating is available. Families are welcome to bring blankets\, lawn chairs\, and food. The concert series is FREE to the public. Don’t miss the second Monday of each month through September. Park seating is available\, bring blankets\, lawn chairs\, food\, and the family. For more information call 435-627-4580.
URL:https://www.visithurricanevalley.com/event/concert-in-the-park-st-george-2/
LOCATION:Vernon Worthen Park\, 300 S 400 E\, St. George\, UT\, 84770\, United States
CATEGORIES:Community Events,Music
END:VEVENT
BEGIN:VEVENT
DTSTART;TZID=UTC:20230708T090000
DTEND;TZID=UTC:20230708T130000
DTSTAMP:20260423T143735
CREATED:20230622T022211Z
LAST-MODIFIED:20230622T022211Z
UID:946-1688806800-1688821200@www.visithurricanevalley.com
SUMMARY:Farmers Market (Hurricane)
DESCRIPTION:
URL:https://www.visithurricanevalley.com/event/farmers-market-hurricane-3/
LOCATION:Hurricane Farmers Market\, 63 S 100 W\, Hurricane\, UT\, 84737\, United States
CATEGORIES:Community Events,Farmers Market
END:VEVENT
BEGIN:VEVENT
DTSTART;TZID=UTC:20230704T220000
DTEND;TZID=UTC:20230704T230000
DTSTAMP:20260423T143735
CREATED:20230622T032713Z
LAST-MODIFIED:20230622T032713Z
UID:1011-1688508000-1688511600@www.visithurricanevalley.com
SUMMARY:4th of July Fireworks (St. George)
DESCRIPTION:4th of July Fireworks \nPresented by Canyon Media \nJuly 4th\, 10:00pm fireworks will be launched from Dixie State University. This will be the most spectacular show St. George has ever put on!! Tune to 99.9 KONY Country for a Patriotic Tribute to America with Music and Narration synced to the fireworks. Locations to watch the fireworks will be updated below shortly but there will be plenty of phenomenal spots to catch the show of the year!!
URL:https://www.visithurricanevalley.com/event/4th-of-july-fireworks-st-george/
LOCATION:Historic Town Square – St. George\, 50 S Main Street\, St. George\, UT\, 8770\, United States
CATEGORIES:Community Events,Holiday Events
END:VEVENT
BEGIN:VEVENT
DTSTART;VALUE=DATE:20230704
DTEND;VALUE=DATE:20230705
DTSTAMP:20260423T143735
CREATED:20230622T032308Z
LAST-MODIFIED:20230622T032308Z
UID:996-1688428800-1688515199@www.visithurricanevalley.com
SUMMARY:4th of July Celebration (St. George)
DESCRIPTION:Join the City of St. George for the 2023 4th of July Celebration! \n Bring the whole family for this fun-filled extravaganza! This year\, the entire Celebration will take place at Town Square meaning the whole party is in one place! \nThere will be live music\, a talent show competition\, food booths\, carnival\, contests\, inflatables\, a parade\, 4k race\, tons of games and countless memories! Be sure to come out to Town Square and join this Independence Day for a Celebration like no other!  Events start with the 4k at 6:30 am so there will be something for everyone in the whole family to enjoy!
URL:https://www.visithurricanevalley.com/event/4th-of-july-celebration-st-george-5/
LOCATION:Historic Town Square – St. George\, 50 S Main Street\, St. George\, UT\, 8770\, United States
CATEGORIES:Community Events,Holiday Events
END:VEVENT
BEGIN:VEVENT
DTSTART;VALUE=DATE:20230704
DTEND;VALUE=DATE:20230705
DTSTAMP:20260423T143735
CREATED:20230622T023423Z
LAST-MODIFIED:20230622T023423Z
UID:966-1688428800-1688515199@www.visithurricanevalley.com
SUMMARY:4th of July Celebration (Toquerville)
DESCRIPTION:7 AM – Parade Line Up\n7:30 AM – Pots & Pans Parade\n8 AM – Breakfast\n9 AM – Cruise ‘n Crawl Show\n\nIncluded Activities:  Dunk Tank\, Ice Cream\, Quilt Bazaar\, Strong Man\, Bottle Toss\, Ring Toss\, Fish Booth\, Cotton Candy\, Popcorn\, Sawdust Dig\, Milk the Cow\, GAMES\, FOOD\, MUSIC\, CARS.  Free to the public.
URL:https://www.visithurricanevalley.com/event/4th-of-july-celebration-toquerville/
LOCATION:Toquerville\, 250 W Center Street\, Toquerville\, UT\, 84774\, United States
CATEGORIES:Community Events,Holiday Events
END:VEVENT
BEGIN:VEVENT
DTSTART;VALUE=DATE:20230704
DTEND;VALUE=DATE:20230705
DTSTAMP:20260423T143735
CREATED:20230622T022909Z
LAST-MODIFIED:20230622T022909Z
UID:962-1688428800-1688515199@www.visithurricanevalley.com
SUMMARY:Independence Day Celebration (LaVerkin)
DESCRIPTION:8 AM – Parade – Main Street \nLine up at 7:30 AM at 111 S Main Street. \nProgram – Races – Games after the parade at Wanlass Park
URL:https://www.visithurricanevalley.com/event/independence-day-celebration-laverkin/
LOCATION:La Verkin City\, La Verkin\, UT\, United States
CATEGORIES:Community Events,Holiday Events
END:VEVENT
BEGIN:VEVENT
DTSTART;VALUE=DATE:20230704
DTEND;VALUE=DATE:20230705
DTSTAMP:20260423T143735
CREATED:20230622T021211Z
LAST-MODIFIED:20230622T021211Z
UID:928-1688428800-1688515199@www.visithurricanevalley.com
SUMMARY:4th of July Celebration (Hurricane)
DESCRIPTION:8-10 AM – Breakfast by the Lions Club – $5 per plate\n8:30 AM – Parade – Starts on Main Street and 300 South\n9:30 AM – Flag Ceremony – Held at the flag pole in front of the Community Center\n9:45 AM – 3 on 3 Basketball – Outside the Fine Arts Courts (sign up online) / Races & Bounce Houses – North Lawn of the Community Center\n12-7 PM – Free Swim – Hurricane City Pool\n8-10 PM – Hurricane vs LaVerkin Softball Game – Spilsbury Sports Complex\n10 PM – Fireworks at Sand Hollow State Park – Free for Hurricane Residents
URL:https://www.visithurricanevalley.com/event/4th-of-july-celebration-hurricane/
LOCATION:Hurricane Community Center\, 63 S 100 W\, Hurricane\, 84737\, United States
CATEGORIES:Community Events,Holiday Events
END:VEVENT
BEGIN:VEVENT
DTSTART;TZID=UTC:20230703T170000
DTEND;TZID=UTC:20230703T230000
DTSTAMP:20260423T143735
CREATED:20230622T032114Z
LAST-MODIFIED:20230622T032409Z
UID:998-1688403600-1688425200@www.visithurricanevalley.com
SUMMARY:4th of July Celebration - Carnival (St. George)
DESCRIPTION:Join the City of St. George for the 2023 4th of July Celebration! \nCarnival Hours \nMonday\, July 3:    5:00 pm  to 11:00 pm
URL:https://www.visithurricanevalley.com/event/4th-of-july-celebration-st-george-4/
LOCATION:Historic Town Square – St. George\, 50 S Main Street\, St. George\, UT\, 8770\, United States
CATEGORIES:Community Events,Holiday Events
END:VEVENT
BEGIN:VEVENT
DTSTART;TZID=UTC:20230702T170000
DTEND;TZID=UTC:20230702T230000
DTSTAMP:20260423T143735
CREATED:20230622T032040Z
LAST-MODIFIED:20230622T032505Z
UID:997-1688317200-1688338800@www.visithurricanevalley.com
SUMMARY:4th of July Celebration - Carnival (St. George)
DESCRIPTION:Join the City of St. George for the 2023 4th of July Celebration! \nCarnival Hours \nSunday\, July 2:     5:00 pm  to 11:00 pm
URL:https://www.visithurricanevalley.com/event/4th-of-july-celebration-st-george-3/
LOCATION:Historic Town Square – St. George\, 50 S Main Street\, St. George\, UT\, 8770\, United States
CATEGORIES:Community Events,Holiday Events
END:VEVENT
BEGIN:VEVENT
DTSTART;TZID=UTC:20230701T160000
DTEND;TZID=UTC:20230701T230000
DTSTAMP:20260423T143735
CREATED:20230622T032004Z
LAST-MODIFIED:20230622T032535Z
UID:995-1688227200-1688252400@www.visithurricanevalley.com
SUMMARY:4th of July Celebration - Carnival (St. George)
DESCRIPTION:Join the City of St. George for the 2023 4th of July Celebration! \nCarnival Hours \nSaturday\, July 1:   4:00 pm  to 11:00 pm
URL:https://www.visithurricanevalley.com/event/4th-of-july-celebration-st-george-2/
LOCATION:Historic Town Square – St. George\, 50 S Main Street\, St. George\, UT\, 8770\, United States
CATEGORIES:Community Events,Holiday Events
END:VEVENT
BEGIN:VEVENT
DTSTART;TZID=UTC:20230701T090000
DTEND;TZID=UTC:20230701T130000
DTSTAMP:20260423T143735
CREATED:20230622T022151Z
LAST-MODIFIED:20230622T022151Z
UID:945-1688202000-1688216400@www.visithurricanevalley.com
SUMMARY:Farmers Market (Hurricane)
DESCRIPTION:
URL:https://www.visithurricanevalley.com/event/farmers-market-hurricane-2/
LOCATION:Hurricane Farmers Market\, 63 S 100 W\, Hurricane\, UT\, 84737\, United States
CATEGORIES:Community Events,Farmers Market
END:VEVENT
BEGIN:VEVENT
DTSTART;TZID=UTC:20230630T170000
DTEND;TZID=UTC:20230630T230000
DTSTAMP:20260423T143735
CREATED:20230622T031815Z
LAST-MODIFIED:20230622T032559Z
UID:992-1688144400-1688166000@www.visithurricanevalley.com
SUMMARY:4th of July Celebration - Carnival (St. George)
DESCRIPTION:Join the City of St. George for the 2023 4th of July Celebration! \nCarnival Hours \n\nFriday\, June 30:   5:00 pm to 11:00 pm
URL:https://www.visithurricanevalley.com/event/4th-of-july-celebration-st-george/
LOCATION:Historic Town Square – St. George\, 50 S Main Street\, St. George\, UT\, 8770\, United States
CATEGORIES:Community Events,Holiday Events
END:VEVENT
BEGIN:VEVENT
DTSTART;TZID=UTC:20230624T090000
DTEND;TZID=UTC:20230624T130000
DTSTAMP:20260423T143735
CREATED:20230622T021613Z
LAST-MODIFIED:20230622T021909Z
UID:930-1687597200-1687611600@www.visithurricanevalley.com
SUMMARY:Farmers Market (Hurricane)
DESCRIPTION:
URL:https://www.visithurricanevalley.com/event/farmers-market-hurricane/
LOCATION:Hurricane Farmers Market\, 63 S 100 W\, Hurricane\, UT\, 84737\, United States
CATEGORIES:Community Events,Farmers Market
END:VEVENT
BEGIN:VEVENT
DTSTART;TZID=UTC:20230617T090000
DTEND;TZID=UTC:20230617T120000
DTSTAMP:20260423T143735
CREATED:20230622T023827Z
LAST-MODIFIED:20230622T023827Z
UID:970-1686992400-1687003200@www.visithurricanevalley.com
SUMMARY:Neighborhood Market (Toquerville)
DESCRIPTION:Every 3rd Saturday\, May through October 2023 \n\nFresh Farm Produce\nHandcrafted Items\nHome Baked Goods\nFine Art\nHome Decor\nFood Vendors
URL:https://www.visithurricanevalley.com/event/neighborhood-market-toquerville/
LOCATION:Toquerville\, 250 W Center Street\, Toquerville\, UT\, 84774\, United States
CATEGORIES:Community Events,Farmers Market
END:VEVENT
BEGIN:VEVENT
DTSTART;TZID=UTC:20230612T193000
DTEND;TZID=UTC:20230612T193000
DTSTAMP:20260423T143735
CREATED:20230622T025019Z
LAST-MODIFIED:20230622T025019Z
UID:976-1686598200-1686598200@www.visithurricanevalley.com
SUMMARY:Concert in the Park (St. George)
DESCRIPTION:80’s DAZE \nThe Concert in the Park Series is a celebration of wonderful music\, open parks\, and family celebration. The Series runs April through September at Vernon Worthen Park. Park seating is available. Families are welcome to bring blankets\, lawn chairs\, and food. The concert series is FREE to the public. Don’t miss the second Monday of each month through September. Park seating is available\, bring blankets\, lawn chairs\, food\, and the family. For more information call 435-627-4580.
URL:https://www.visithurricanevalley.com/event/concert-in-the-park-st-george/
LOCATION:Vernon Worthen Park\, 300 S 400 E\, St. George\, UT\, 84770\, United States
CATEGORIES:Community Events,Music
END:VEVENT
END:VCALENDAR